BEGIN:VCALENDAR
VERSION:2.0
PRODID:-//Al Barakah Training - ECPv6.15.17//NONSGML v1.0//EN
CALSCALE:GREGORIAN
METHOD:PUBLISH
X-WR-CALNAME:Al Barakah Training
X-ORIGINAL-URL:https://al-barakah.com.my
X-WR-CALDESC:Events for Al Barakah Training
REFRESH-INTERVAL;VALUE=DURATION:PT1H
X-Robots-Tag:noindex
X-PUBLISHED-TTL:PT1H
BEGIN:VTIMEZONE
TZID:Asia/Shanghai
BEGIN:STANDARD
TZOFFSETFROM:+0800
TZOFFSETTO:+0800
TZNAME:CST
DTSTART:20250101T000000
END:STANDARD
END:VTIMEZONE
BEGIN:VEVENT
DTSTART;TZID=Asia/Shanghai:20260421T090000
DTEND;TZID=Asia/Shanghai:20260421T130000
DTSTAMP:20260421T013809
CREATED:20251224T144543Z
LAST-MODIFIED:20251224T144543Z
UID:10001318-1776762000-1776776400@al-barakah.com.my
SUMMARY:GMP Awareness Training Online
DESCRIPTION:Master GMP Fundamentals in Just 4 Hours: HRDCorp Claimable Online Training (2026)\nBuild a rock-solid foundation in food safety with our focused GMP Awareness Training Online. This intensive\, four-hour virtual program is designed for food industry professionals across Malaysia who need to understand and implement the core principles of Good Manufacturing Practice (GMP). \n \n\nWhy This Online GMP Training is Essential for Your Team\nGMP is the non-negotiable baseline for any food production facility. This 2026 session distills years of expertise into a single\, actionable online workshop. You will gain a clear understanding of: \n\n\nThe 11 Key Components of GMP specific to the food industry. \n\n\nHow GMP forms the critical foundation for HACCP\, ISO 22000\, and FSSC 22000. \n\n\nPractical steps for maintaining personal hygiene\, facility sanitation\, and proper documentation. \n\n\nYour role in preventing contamination\, allergen cross-contact\, and ensuring traceability. \n\n\nProgram Details:\n\n\nFormat: Live\, Interactive Online Session (via Zoom) \n\n\nDuration: 4 Hours (Focused\, No Fluff) \n\nHRDCorp Status: Fully Claimable under SBL-Khas Scheme.\n\nWho Should Attend: Production Operators\, QA/QC Staff\, New Food Safety Team Members\, and anyone in a food handling role requiring certified GMP awareness. \n\n\nMaximize Your HRDCorp Levy Investment\nThis course is approved for HRDCorp claim\, making it a cost-effective way to upskill your workforce and meet regulatory training requirements. We provide all necessary documentation for a smooth claim process. \nLimited Virtual Seats Available.\nEquip your team with the knowledge to protect your consumers\, your brand\, and your compliance status. Register now to secure your company’s spots for this exclusive 2026 online intake.
URL:https://al-barakah.com.my/course/gmp-awareness-training-online/2026-04-21/
LOCATION:Zoom Online\, Malaysia
CATEGORIES:gmp
ATTACH;FMTTYPE=image/png:https://al-barakah.com.my/wp-content/uploads/2022/04/GMP-Awareness-Training-1.png
ORGANIZER;CN="Al Barakah Training Solution":MAILTO:sales@al-barakah.com.my
END:VEVENT
BEGIN:VEVENT
DTSTART;TZID=Asia/Shanghai:20260421T140000
DTEND;TZID=Asia/Shanghai:20260421T170000
DTSTAMP:20260421T013809
CREATED:20251224T133441Z
LAST-MODIFIED:20251228T005809Z
UID:10000971-1776780000-1776790800@al-barakah.com.my
SUMMARY:Kursus Pengendali Makanan Online
DESCRIPTION:Kursus Pengendali Makanan Online: Wajib\, Mudah & Diktiraf KKM\nDi Malaysia\, Kursus Pengendali Makanan Online bukan sekadar pilihan\, tetapi keperluan undang-undang bagi setiap individu yang terlibat dalam pengendalian makanan secara komersial. Di bawah Akta Makanan 1983\, Kementerian Kesihatan Malaysia (KKM) dan Pihak Berkuasa Tempatan (PBT) mewajibkan semua pengendali makanan memiliki sijil yang sah daripada pusat latihan yang bertauliah. \n \nKursus ini direka untuk kesibukan anda. Dengan format dalam talian yang fleksibel\, peserta boleh belajar pada bila-bila masa dan di mana sahaja dalam tempoh hanya 4 jam\, tanpa perlu mengganggu waktu bekerja. Kandungannya merangkumi semua aspek kritikal: dari undang-undang makanan\, prinsip kebersihan (GMP/GHP)\, pencegahan pencemaran silang\, hingga kawalan bahaya makanan yang boleh menyebabkan keracunan. \nKenapa kursus ini penting?\nIa adalah pelaburan langsung dalam keselamatan awam dan perlindungan perniagaan anda. Sijil yang diktiraf ini bukan sekadar mematuhi undang-undang\, tetapi membuktikan komitmen anda terhadap amalan terbaik dalam industri makanan. Ia mengurangkan risiko wabak bawaan makanan\, tindakan undang-undang\, denda\, dan kerosakan reputasi yang boleh mematikan perniagaan. \nSiapa yang perlu mendaftar?\nSemua pekerja di restoran\, hotel\, kantin sekolah\, kilang makanan\, pasar raya\, katering\, dan sebarang premis makanan WAJIB memiliki sijil ini. Ia juga penting untuk pengusaha baru yang ingin memulakan perniagaan makanan dengan langkah yang betul. \n \nHasil akhirnya jelas:\nPeserta akan keluar dengan kefahaman praktikal untuk mengendalikan makanan dengan selamat setiap hari\, dan yang paling penting\, sijil rasmi yang diktiraf sepenuhnya oleh KKM & PBT\, membolehkan mereka beroperasi dengan yakin dan patuh. \nJangan tangguh keperluan mandatori ini. Dapatkan sijil anda dengan cara yang paling mudah dan efisien.
URL:https://al-barakah.com.my/course/kursus-pengendali-makanan-online/2026-04-21/
LOCATION:Zoom Online\, Malaysia
CATEGORIES:Kursus Pengendali Makanan
ATTACH;FMTTYPE=image/jpeg:https://al-barakah.com.my/wp-content/uploads/2022/05/Kursus-Pengendali-Makanan-Al-Barakah-Training-Solution.jpg
ORGANIZER;CN="Al Barakah Training Solution":MAILTO:sales@al-barakah.com.my
END:VEVENT
END:VCALENDAR